BEGIN:VCALENDAR
VERSION:2.0
PRODID:-//Hoheging-Kellerhöhe-Bürgermoor - ECPv6.15.0.1//NONSGML v1.0//EN
CALSCALE:GREGORIAN
METHOD:PUBLISH
X-ORIGINAL-URL:https://www.ho-ke-bue.de
X-WR-CALDESC:Veranstaltungen für Hoheging-Kellerhöhe-Bürgermoor
REFRESH-INTERVAL;VALUE=DURATION:PT1H
X-Robots-Tag:noindex
X-PUBLISHED-TTL:PT1H
BEGIN:VTIMEZONE
TZID:Europe/Berlin
BEGIN:DAYLIGHT
TZOFFSETFROM:+0100
TZOFFSETTO:+0200
TZNAME:CEST
DTSTART:20260329T010000
END:DAYLIGHT
BEGIN:STANDARD
TZOFFSETFROM:+0200
TZOFFSETTO:+0100
TZNAME:CET
DTSTART:20261025T010000
END:STANDARD
END:VTIMEZONE
BEGIN:VEVENT
DTSTART;VALUE=DATE:20260219
DTEND;VALUE=DATE:20260220
DTSTAMP:20260422T133214
CREATED:20251226T184416Z
LAST-MODIFIED:20251226T190029Z
UID:3660-1771459200-1771545599@www.ho-ke-bue.de
SUMMARY:Blutspende
DESCRIPTION:
URL:https://www.ho-ke-bue.de/termin/blutspende-3/
END:VEVENT
BEGIN:VEVENT
DTSTART;VALUE=DATE:20260219
DTEND;VALUE=DATE:20260220
DTSTAMP:20260422T133214
CREATED:20251226T184447Z
LAST-MODIFIED:20251226T190107Z
UID:3662-1771459200-1771545599@www.ho-ke-bue.de
SUMMARY:Seniorenklönschnack Kohlessen
DESCRIPTION:
URL:https://www.ho-ke-bue.de/termin/seniorenkloenschnack-kohlessen-2/
END:VEVENT
END:VCALENDAR