BEGIN:VCALENDAR
VERSION:2.0
PRODID:-//Hoheging-Kellerhöhe-Bürgermoor - ECPv6.15.0.1//NONSGML v1.0//EN
CALSCALE:GREGORIAN
METHOD:PUBLISH
X-ORIGINAL-URL:https://www.ho-ke-bue.de
X-WR-CALDESC:Veranstaltungen für Hoheging-Kellerhöhe-Bürgermoor
REFRESH-INTERVAL;VALUE=DURATION:PT1H
X-Robots-Tag:noindex
X-PUBLISHED-TTL:PT1H
BEGIN:VTIMEZONE
TZID:Europe/Berlin
BEGIN:DAYLIGHT
TZOFFSETFROM:+0100
TZOFFSETTO:+0200
TZNAME:CEST
DTSTART:20260329T010000
END:DAYLIGHT
BEGIN:STANDARD
TZOFFSETFROM:+0200
TZOFFSETTO:+0100
TZNAME:CET
DTSTART:20261025T010000
END:STANDARD
END:VTIMEZONE
BEGIN:VEVENT
DTSTART;VALUE=DATE:20260531
DTEND;VALUE=DATE:20260601
DTSTAMP:20260422T133241
CREATED:20251226T190659Z
LAST-MODIFIED:20251226T190659Z
UID:3704-1780185600-1780271999@www.ho-ke-bue.de
SUMMARY:Pfannkuchenaktion am Bücherschrank
DESCRIPTION:
URL:https://www.ho-ke-bue.de/termin/pfannkuchenaktion-am-buecherschrank/
END:VEVENT
END:VCALENDAR