BEGIN:VCALENDAR
VERSION:2.0
PRODID:-//Hoheging-Kellerhöhe-Bürgermoor - ECPv6.15.0.1//NONSGML v1.0//EN
CALSCALE:GREGORIAN
METHOD:PUBLISH
X-WR-CALNAME:Hoheging-Kellerhöhe-Bürgermoor
X-ORIGINAL-URL:https://www.ho-ke-bue.de
X-WR-CALDESC:Veranstaltungen für Hoheging-Kellerhöhe-Bürgermoor
REFRESH-INTERVAL;VALUE=DURATION:PT1H
X-Robots-Tag:noindex
X-PUBLISHED-TTL:PT1H
BEGIN:VTIMEZONE
TZID:Europe/Berlin
BEGIN:DAYLIGHT
TZOFFSETFROM:+0100
TZOFFSETTO:+0200
TZNAME:CEST
DTSTART:20260329T010000
END:DAYLIGHT
BEGIN:STANDARD
TZOFFSETFROM:+0200
TZOFFSETTO:+0100
TZNAME:CET
DTSTART:20261025T010000
END:STANDARD
END:VTIMEZONE
BEGIN:VEVENT
DTSTART;VALUE=DATE:20261205
DTEND;VALUE=DATE:20261206
DTSTAMP:20260422T134422
CREATED:20251226T192138Z
LAST-MODIFIED:20251226T192138Z
UID:3753-1796428800-1796515199@www.ho-ke-bue.de
SUMMARY:Kalenderverkauf
DESCRIPTION:
URL:https://www.ho-ke-bue.de/termin/kalenderverkauf-4/
END:VEVENT
BEGIN:VEVENT
DTSTART;VALUE=DATE:20261205
DTEND;VALUE=DATE:20261206
DTSTAMP:20260422T134422
CREATED:20251226T192228Z
LAST-MODIFIED:20251226T192228Z
UID:3757-1796428800-1796515199@www.ho-ke-bue.de
SUMMARY:Nikolausempfang im Pater-Titus-Haus
DESCRIPTION:
URL:https://www.ho-ke-bue.de/termin/nikolausempfang-im-pater-titus-haus/
END:VEVENT
END:VCALENDAR