BEGIN:VCALENDAR
VERSION:2.0
PRODID:-//Hoheging-Kellerhöhe-Bürgermoor - ECPv6.15.0.1//NONSGML v1.0//EN
CALSCALE:GREGORIAN
METHOD:PUBLISH
X-ORIGINAL-URL:https://www.ho-ke-bue.de
X-WR-CALDESC:Veranstaltungen für Hoheging-Kellerhöhe-Bürgermoor
REFRESH-INTERVAL;VALUE=DURATION:PT1H
X-Robots-Tag:noindex
X-PUBLISHED-TTL:PT1H
BEGIN:VTIMEZONE
TZID:Europe/Berlin
BEGIN:DAYLIGHT
TZOFFSETFROM:+0100
TZOFFSETTO:+0200
TZNAME:CEST
DTSTART:20250330T010000
END:DAYLIGHT
BEGIN:STANDARD
TZOFFSETFROM:+0200
TZOFFSETTO:+0100
TZNAME:CET
DTSTART:20251026T010000
END:STANDARD
END:VTIMEZONE
BEGIN:VEVENT
DTSTART;VALUE=DATE:20250612
DTEND;VALUE=DATE:20250613
DTSTAMP:20260424T133422
CREATED:20241230T144557Z
LAST-MODIFIED:20241230T144557Z
UID:3052-1749686400-1749772799@www.ho-ke-bue.de
SUMMARY:Generalversammlung Dorfverein
DESCRIPTION:
URL:https://www.ho-ke-bue.de/termin/generalversammlung-dorfverein-11/
END:VEVENT
BEGIN:VEVENT
DTSTART;VALUE=DATE:20250614
DTEND;VALUE=DATE:20250615
DTSTAMP:20260424T133422
CREATED:20241230T144625Z
LAST-MODIFIED:20241230T152249Z
UID:3054-1749859200-1749945599@www.ho-ke-bue.de
SUMMARY:Oldtimerausfahrt
DESCRIPTION:
URL:https://www.ho-ke-bue.de/termin/oldtimerfahrt/
END:VEVENT
BEGIN:VEVENT
DTSTART;VALUE=DATE:20250619
DTEND;VALUE=DATE:20250620
DTSTAMP:20260424T133422
CREATED:20241230T144732Z
LAST-MODIFIED:20241230T144732Z
UID:3056-1750291200-1750377599@www.ho-ke-bue.de
SUMMARY:Spargelessen für die Senioren
DESCRIPTION:
URL:https://www.ho-ke-bue.de/termin/spargelessen-fuer-die-senioren-5/
END:VEVENT
BEGIN:VEVENT
DTSTART;VALUE=DATE:20250621
DTEND;VALUE=DATE:20250622
DTSTAMP:20260424T133422
CREATED:20241230T144803Z
LAST-MODIFIED:20241230T144803Z
UID:3058-1750464000-1750550399@www.ho-ke-bue.de
SUMMARY:Fronleichnamsprozession
DESCRIPTION:
URL:https://www.ho-ke-bue.de/termin/fronleichnamsprozession-11/
END:VEVENT
BEGIN:VEVENT
DTSTART;VALUE=DATE:20250629
DTEND;VALUE=DATE:20250630
DTSTAMP:20260424T133422
CREATED:20241230T144837Z
LAST-MODIFIED:20241230T144837Z
UID:3060-1751155200-1751241599@www.ho-ke-bue.de
SUMMARY:Kilmerstutenfrühstück Dorfverein
DESCRIPTION:
URL:https://www.ho-ke-bue.de/termin/kilmerstutenfruehstueck-dorfverein/
END:VEVENT
END:VCALENDAR