BEGIN:VCALENDAR
VERSION:2.0
PRODID:-//Hoheging-Kellerhöhe-Bürgermoor - ECPv6.15.0.1//NONSGML v1.0//EN
CALSCALE:GREGORIAN
METHOD:PUBLISH
X-WR-CALNAME:Hoheging-Kellerhöhe-Bürgermoor
X-ORIGINAL-URL:https://www.ho-ke-bue.de
X-WR-CALDESC:Veranstaltungen für Hoheging-Kellerhöhe-Bürgermoor
REFRESH-INTERVAL;VALUE=DURATION:PT1H
X-Robots-Tag:noindex
X-PUBLISHED-TTL:PT1H
BEGIN:VTIMEZONE
TZID:Europe/Berlin
BEGIN:DAYLIGHT
TZOFFSETFROM:+0100
TZOFFSETTO:+0200
TZNAME:CEST
DTSTART:20250330T010000
END:DAYLIGHT
BEGIN:STANDARD
TZOFFSETFROM:+0200
TZOFFSETTO:+0100
TZNAME:CET
DTSTART:20251026T010000
END:STANDARD
END:VTIMEZONE
BEGIN:VEVENT
DTSTART;VALUE=DATE:20250701
DTEND;VALUE=DATE:20250702
DTSTAMP:20260422T120854
CREATED:20241230T144911Z
LAST-MODIFIED:20241230T144911Z
UID:3062-1751328000-1751414399@www.ho-ke-bue.de
SUMMARY:Landesfrauenwallfahrt
DESCRIPTION:
URL:https://www.ho-ke-bue.de/termin/landesfrauenwallfahrt-9/
END:VEVENT
BEGIN:VEVENT
DTSTART;VALUE=DATE:20250716
DTEND;VALUE=DATE:20250721
DTSTAMP:20260422T120854
CREATED:20241230T144945Z
LAST-MODIFIED:20241230T152412Z
UID:3064-1752624000-1753055999@www.ho-ke-bue.de
SUMMARY:Zeltlager Spielmannszug
DESCRIPTION:
URL:https://www.ho-ke-bue.de/termin/zeltlager-spielmannszug-10/
END:VEVENT
BEGIN:VEVENT
DTSTART;VALUE=DATE:20250717
DTEND;VALUE=DATE:20250718
DTSTAMP:20260422T120854
CREATED:20241230T145017Z
LAST-MODIFIED:20241230T145017Z
UID:3066-1752710400-1752796799@www.ho-ke-bue.de
SUMMARY:Überraschungsnachmittag Seniorenklönschnack
DESCRIPTION:
URL:https://www.ho-ke-bue.de/termin/ueberraschungsnachmittag-seniorenkloenschnack/
END:VEVENT
END:VCALENDAR