BEGIN:VCALENDAR
VERSION:2.0
PRODID:-//Hoheging-Kellerhöhe-Bürgermoor - ECPv6.15.0.1//NONSGML v1.0//EN
CALSCALE:GREGORIAN
METHOD:PUBLISH
X-ORIGINAL-URL:https://www.ho-ke-bue.de
X-WR-CALDESC:Veranstaltungen für Hoheging-Kellerhöhe-Bürgermoor
REFRESH-INTERVAL;VALUE=DURATION:PT1H
X-Robots-Tag:noindex
X-PUBLISHED-TTL:PT1H
BEGIN:VTIMEZONE
TZID:Europe/Berlin
BEGIN:DAYLIGHT
TZOFFSETFROM:+0100
TZOFFSETTO:+0200
TZNAME:CEST
DTSTART:20250330T010000
END:DAYLIGHT
BEGIN:STANDARD
TZOFFSETFROM:+0200
TZOFFSETTO:+0100
TZNAME:CET
DTSTART:20251026T010000
END:STANDARD
END:VTIMEZONE
BEGIN:VEVENT
DTSTART;VALUE=DATE:20251101
DTEND;VALUE=DATE:20251102
DTSTAMP:20260420T163939
CREATED:20241230T151429Z
LAST-MODIFIED:20241230T151429Z
UID:3090-1761955200-1762041599@www.ho-ke-bue.de
SUMMARY:Gräbersegnung
DESCRIPTION:
URL:https://www.ho-ke-bue.de/termin/graebersegnung-11/
END:VEVENT
BEGIN:VEVENT
DTSTART;VALUE=DATE:20251120
DTEND;VALUE=DATE:20251121
DTSTAMP:20260420T163939
CREATED:20241230T151448Z
LAST-MODIFIED:20241230T151448Z
UID:3093-1763596800-1763683199@www.ho-ke-bue.de
SUMMARY:Seniorenklönschnack
DESCRIPTION:
URL:https://www.ho-ke-bue.de/termin/seniorenkloenschnack-70/
END:VEVENT
BEGIN:VEVENT
DTSTART;VALUE=DATE:20251123
DTEND;VALUE=DATE:20251124
DTSTAMP:20260420T163939
CREATED:20241230T151526Z
LAST-MODIFIED:20241230T151526Z
UID:3095-1763856000-1763942399@www.ho-ke-bue.de
SUMMARY:Lichterprozession auf dem Friedhof
DESCRIPTION:
URL:https://www.ho-ke-bue.de/termin/lichterprozession-auf-dem-friedhof-9/
END:VEVENT
BEGIN:VEVENT
DTSTART;VALUE=DATE:20251129
DTEND;VALUE=DATE:20251130
DTSTAMP:20260420T163939
CREATED:20241230T151547Z
LAST-MODIFIED:20241230T151547Z
UID:3097-1764374400-1764460799@www.ho-ke-bue.de
SUMMARY:Laubaktion
DESCRIPTION:
URL:https://www.ho-ke-bue.de/termin/laubaktion-9/
END:VEVENT
END:VCALENDAR