BEGIN:VCALENDAR
VERSION:2.0
PRODID:-//Hoheging-Kellerhöhe-Bürgermoor - ECPv6.15.0.1//NONSGML v1.0//EN
CALSCALE:GREGORIAN
METHOD:PUBLISH
X-ORIGINAL-URL:https://www.ho-ke-bue.de
X-WR-CALDESC:Veranstaltungen für Hoheging-Kellerhöhe-Bürgermoor
REFRESH-INTERVAL;VALUE=DURATION:PT1H
X-Robots-Tag:noindex
X-PUBLISHED-TTL:PT1H
BEGIN:VTIMEZONE
TZID:Europe/Berlin
BEGIN:DAYLIGHT
TZOFFSETFROM:+0100
TZOFFSETTO:+0200
TZNAME:CEST
DTSTART:20250330T010000
END:DAYLIGHT
BEGIN:STANDARD
TZOFFSETFROM:+0200
TZOFFSETTO:+0100
TZNAME:CET
DTSTART:20251026T010000
END:STANDARD
END:VTIMEZONE
BEGIN:VEVENT
DTSTART;VALUE=DATE:20251205
DTEND;VALUE=DATE:20251206
DTSTAMP:20260420T150702
CREATED:20241230T151655Z
LAST-MODIFIED:20241230T151655Z
UID:3099-1764892800-1764979199@www.ho-ke-bue.de
SUMMARY:Nikolausempfang im Pater-Titus-Haus
DESCRIPTION:
URL:https://www.ho-ke-bue.de/termin/nikolausempfang-im-pater-titus-haus-5/
END:VEVENT
BEGIN:VEVENT
DTSTART;VALUE=DATE:20251206
DTEND;VALUE=DATE:20251207
DTSTAMP:20260420T150702
CREATED:20241230T151718Z
LAST-MODIFIED:20241230T151718Z
UID:3101-1764979200-1765065599@www.ho-ke-bue.de
SUMMARY:Patronatsfest
DESCRIPTION:
URL:https://www.ho-ke-bue.de/termin/patronatsfest-11/
END:VEVENT
BEGIN:VEVENT
DTSTART;VALUE=DATE:20251214
DTEND;VALUE=DATE:20251215
DTSTAMP:20260420T150702
CREATED:20241230T151743Z
LAST-MODIFIED:20241230T151743Z
UID:3103-1765670400-1765756799@www.ho-ke-bue.de
SUMMARY:Adventsfeier Seniorenklönschnack
DESCRIPTION:
URL:https://www.ho-ke-bue.de/termin/adventsfeier-seniorenkloenschnack/
END:VEVENT
BEGIN:VEVENT
DTSTART;VALUE=DATE:20251217
DTEND;VALUE=DATE:20251218
DTSTAMP:20260420T150702
CREATED:20241230T151818Z
LAST-MODIFIED:20241230T151818Z
UID:3105-1765929600-1766015999@www.ho-ke-bue.de
SUMMARY:Adventsfeier Seniorengymnastikgruppe
DESCRIPTION:
URL:https://www.ho-ke-bue.de/termin/adventsfeier-seniorengymnastikgruppe-2/
END:VEVENT
END:VCALENDAR