BEGIN:VCALENDAR
VERSION:2.0
PRODID:-//Hoheging-Kellerhöhe-Bürgermoor - ECPv6.15.0.1//NONSGML v1.0//EN
CALSCALE:GREGORIAN
METHOD:PUBLISH
X-ORIGINAL-URL:https://www.ho-ke-bue.de
X-WR-CALDESC:Veranstaltungen für Hoheging-Kellerhöhe-Bürgermoor
REFRESH-INTERVAL;VALUE=DURATION:PT1H
X-Robots-Tag:noindex
X-PUBLISHED-TTL:PT1H
BEGIN:VTIMEZONE
TZID:Europe/Berlin
BEGIN:DAYLIGHT
TZOFFSETFROM:+0100
TZOFFSETTO:+0200
TZNAME:CEST
DTSTART:20260329T010000
END:DAYLIGHT
BEGIN:STANDARD
TZOFFSETFROM:+0200
TZOFFSETTO:+0100
TZNAME:CET
DTSTART:20261025T010000
END:STANDARD
END:VTIMEZONE
BEGIN:VEVENT
DTSTART;VALUE=DATE:20261015
DTEND;VALUE=DATE:20261016
DTSTAMP:20260420T193324
CREATED:20251226T191658Z
LAST-MODIFIED:20251226T191658Z
UID:3732-1792022400-1792108799@www.ho-ke-bue.de
SUMMARY:Erntedankfest Seniorenklönschnack
DESCRIPTION:
URL:https://www.ho-ke-bue.de/termin/erntedankfest-seniorenkloenschnack-2/
END:VEVENT
BEGIN:VEVENT
DTSTART;VALUE=DATE:20261024
DTEND;VALUE=DATE:20261025
DTSTAMP:20260420T193324
CREATED:20251226T191726Z
LAST-MODIFIED:20251226T191726Z
UID:3734-1792800000-1792886399@www.ho-ke-bue.de
SUMMARY:Oktoberfest KLJB
DESCRIPTION:
URL:https://www.ho-ke-bue.de/termin/oktoberfest-kljb-2/
END:VEVENT
BEGIN:VEVENT
DTSTART;VALUE=DATE:20261025
DTEND;VALUE=DATE:20261026
DTSTAMP:20260420T193324
CREATED:20251226T191753Z
LAST-MODIFIED:20251226T191753Z
UID:3736-1792886400-1792972799@www.ho-ke-bue.de
SUMMARY:Laternenumzug SMZ
DESCRIPTION:
URL:https://www.ho-ke-bue.de/termin/laternenumzug-smz-2/
END:VEVENT
BEGIN:VEVENT
DTSTART;VALUE=DATE:20261031
DTEND;VALUE=DATE:20261101
DTSTAMP:20260420T193324
CREATED:20251226T191823Z
LAST-MODIFIED:20251226T191823Z
UID:3738-1793404800-1793491199@www.ho-ke-bue.de
SUMMARY:Gräbersegnung
DESCRIPTION:
URL:https://www.ho-ke-bue.de/termin/graebersegnung/
END:VEVENT
END:VCALENDAR